BEGIN:VCALENDAR
VERSION:2.0
PRODID:-//Kristall - centrum služeb rozvoje osobnosti - ECPv6.15.11//NONSGML v1.0//EN
CALSCALE:GREGORIAN
METHOD:PUBLISH
X-WR-CALNAME:Kristall - centrum služeb rozvoje osobnosti
X-ORIGINAL-URL:https://kristall-centrum.cz
X-WR-CALDESC:Akce na Kristall - centrum služeb rozvoje osobnosti
REFRESH-INTERVAL;VALUE=DURATION:PT1H
X-Robots-Tag:noindex
X-PUBLISHED-TTL:PT1H
BEGIN:VTIMEZONE
TZID:Europe/Prague
BEGIN:DAYLIGHT
TZOFFSETFROM:+0100
TZOFFSETTO:+0200
TZNAME:CEST
DTSTART:20250330T010000
END:DAYLIGHT
BEGIN:STANDARD
TZOFFSETFROM:+0200
TZOFFSETTO:+0100
TZNAME:CET
DTSTART:20251026T010000
END:STANDARD
BEGIN:DAYLIGHT
TZOFFSETFROM:+0100
TZOFFSETTO:+0200
TZNAME:CEST
DTSTART:20260329T010000
END:DAYLIGHT
BEGIN:STANDARD
TZOFFSETFROM:+0200
TZOFFSETTO:+0100
TZNAME:CET
DTSTART:20261025T010000
END:STANDARD
BEGIN:DAYLIGHT
TZOFFSETFROM:+0100
TZOFFSETTO:+0200
TZNAME:CEST
DTSTART:20270328T010000
END:DAYLIGHT
BEGIN:STANDARD
TZOFFSETFROM:+0200
TZOFFSETTO:+0100
TZNAME:CET
DTSTART:20271031T010000
END:STANDARD
BEGIN:DAYLIGHT
TZOFFSETFROM:+0100
TZOFFSETTO:+0200
TZNAME:CEST
DTSTART:20280326T010000
END:DAYLIGHT
BEGIN:STANDARD
TZOFFSETFROM:+0200
TZOFFSETTO:+0100
TZNAME:CET
DTSTART:20281029T010000
END:STANDARD
END:VTIMEZONE
BEGIN:VEVENT
DTSTART;VALUE=DATE:20260227
DTEND;VALUE=DATE:20270418
DTSTAMP:20260424T121630
CREATED:20201105T190812Z
LAST-MODIFIED:20260319T133334Z
UID:7411-1772154000-1807927199@kristall-centrum.cz
SUMMARY:Online workshopy
DESCRIPTION:Speciální typ akcí\, které jsou plánovány jednou do měsíce.  Obsahově na sebe obvykle nenavazují a trvají cca 2\,5 až 3 hodiny. Tématická náplň zpravidla vzniká spontánně při vysílání\, je originální a neopakovatelná\, vychází ze specifičnosti účastníků\, aktuálních témat nebo časové či astrologicky významné události. Setkání tohoto rázu mají svou jedinečnou atmosféru a rozhodně jsou náplní bohatá.  \n  \nOnline Workshopy probíhají prostřednictvím konferenčních hovorů na GoogleMeet a jsou zpoplatněny částkou 400\,- kč \nČlenové skupiny osobního rozvoje\, platící měsíční členství mého kanálu Herohero\, mají tyto workshopy zdarma. Více informací k tomuto mému projektu naleznete pod odkazem zde https://kristall-centrum.cz/rozvoj/  .  \nPo registraci na konkrétní setkání účastník obdrží emailovou zprávou informace a po uhrazení akce mu budou zaslány i potřebné přihlašovací údaje. \nPřehled vyhlášených témat i s možností registrace naleznete v tabulce níže. \n\n\n\n\n	aktuální akcetermínregistrace\n\n\n\n\n	16. 4. 2026\n \n18:00 - 20:30 hod.\n \n   Google Meet\n  \n  Registrace zde\n\n 
URL:https://kristall-centrum.cz/akce/wshp/
LOCATION:online (Google Meet)
ATTACH;FMTTYPE=image/jpeg:https://kristall-centrum.cz/wp-content/uploads/2020/11/wshpy-scaled.jpg
ORGANIZER;CN="Kristall centrum":MAILTO:kristall@centrum.cz
END:VEVENT
BEGIN:VEVENT
DTSTART;VALUE=DATE:20260326
DTEND;VALUE=DATE:20260329
DTSTAMP:20260424T121630
CREATED:20260224T215357Z
LAST-MODIFIED:20260225T071827Z
UID:9483-1774483200-1774742399@kristall-centrum.cz
SUMMARY:Online Konzultace a Terapie
DESCRIPTION:REZERVAČNÍ SYSTÉM Kalendář akcí Skupina osobního rozvoje \n\n\n\n \nPro zájemce o individuální konzultaci nebo dálkovou terapii nabízím několik příležitostí k online setkání. Určil jsem pro tuto příležitost dva dny – jeden pracovní a jeden víkendový den (čtvrtek 26.3. a sobotu 28.3.) a v každém z nich vyčlenil šest dvouhodinových bloků pro možnou rezervaci. Půjde o hodinu a půl čisté konzultace a půl hodiny rezervní mezi jednotlivými bloky.  \nPod odkazem na stránku rezervačního systému uvidíte volné i obsazené časové bloky a pokud o svůj termín budete také stát\, jednoduchým způsobem si online vlastní blok zarezervujete. \nZájemcům kteří si termín pro sebe rezervují se mailem ozvu a domluvíme si podrobnosti. \nCena za individuální konzultaci/terapii v jednom bloku je 1500\,- Kč..  \n  \n\n\n\n\n	REZERVAČNÍ SYSTÉM Kalendář akcí Skupina osobního rozvoje
URL:https://kristall-centrum.cz/akce/onlikote/
LOCATION:online (Google Meet)
ATTACH;FMTTYPE=image/jpeg:https://kristall-centrum.cz/wp-content/uploads/2026/02/konzul-scaled.jpg
ORGANIZER;CN="Kristall centrum":MAILTO:kristall@centrum.cz
END:VEVENT
BEGIN:VEVENT
DTSTART;VALUE=DATE:20260424
DTEND;VALUE=DATE:20260427
DTSTAMP:20260424T121630
CREATED:20260106T134419Z
LAST-MODIFIED:20260420T192703Z
UID:9165-1776988800-1777247999@kristall-centrum.cz
SUMMARY:Kurz Intuitivního vidění pro děti do 12ti let – Praha-volno
DESCRIPTION:  \n\n\n\n\n	  Registrovat na kurz\nVíce informací k projektu \n\n\n\n . \nKURZ  INTUITIVNÍHO  VIDĚNÍ  \n„Člověk je schopen jakoukoliv informaci vnímat přímo z okolí\, bez pomoci klasických pěti smyslových orgánů“  \nZákladní kurz určený dětem do 12ti let\, vycházející z „Metody přímého vnímání informací z okolí“ Marka Komissarova.  \nVýsledkem procesu výuky Intuitivního Vidění (IV) je\, že se účastníci kurzu i  s vyřazeným fyzickým zrakem naučí vidět. Kurz je tedy zaměřen na aktivaci schopnosti vidět okolí bez zapojení běžných smyslových orgánů – očí. Tento režim VIDĚNÍ lze však napřímo aktivovat pouze u dětí ve věku mezi 5 až 12 lety\, pak se totiž tyto schopnosti přepínají na dospělý režim. Schopnost vidění se ale správným tréninkem neztratí.  \nPři této naší práci\, dochází k zapojení do praktické činnosti část mozku\, která není dosud běžně využívána. Tento proces autor metody nazývá Aktivací CIV (centra informačního vnímání).  \nJiž Albert Einstein řekl\, že lidstvo běžně využívá jen necelých 10% kapacity mozku a těch zbývajících 90% lidé neaktivují a nevyužívají.  \n. \n  \nStruktura kurzu \nDěti absolvují celkem pět dvouhodinových lekcí. \n\nlekce – úvod a aktivace vidění\nlekce – rozvoj vidění na blízko\nlekce – rozvoj vidění na dálku\nlekce – vidění detailů do dálky\, napasování vidění do běžného denního režimu slabozrakým\nlekce – finální doladění a závěrečné přezkoušení s ukázkama kvality vidění absolventů kurzu.\n\n  \nKurz bude otevřen pouze pro jednu výukovou skupinu : \nvýuka :  pátek 16\,00 hod. – 19\,00 hod. \, sobota 10-12:30 hod a 15 – 17:30 hod.\, neděle 10-12 hod. a 14 – 16 hod. \n… \n  \nUpozornění a omezení \n  \nKurz je zpřístupněn pouze dětem ve věku mezi 5 až 12 lety (včetně). Důvod věkového omezení je ten\, že děti mladší mají problémy se způsobem výuky a udržení koncentrovanosti\, starší děti zase projevují způsob smýšlení a názorové předsudky dospělých\, tedy již nejsou způsobilé k přímé výuce “vidění” v dětském režimu. V případě skutečně vážného problému vidění\, kde čas hraje roli (postupná ztráta zraku apod.)\, je přístupná i věková výjimka na základně individuálního posouzení\, ovšem věku blízkém vyhlášenému rozmezí. \nKurz a výuka probíhá bez přítomnosti rodičů \nKurz není vhodný pro děti s mentální poruchou\, v případě jiných zdravotních problémů s námi prosím předem konzultujte vhodnost kurzu ( kristall-centrum@email.cz) \n  \nDůležitá informace k ceně kurzu – výše kurzovného je 4900\,- kč za jedno dítě. Je třeba ale také připočítat cenu cvičební masky\, kterou děti budou potřebovat k udržení\, rozvoji a tréninku metody. Cena této masky je 600\,- kč (pro kurz ji objednáváme za stejnou cenu ze zahraničí). Masky si děti po skončení kurzu odnesou domů. \n. \nVíce informací k metodě i videa z kurzů naleznete na našich stránkách projektu  \n  \n\n\n\n\n	  Registrovat na kurz\nVíce informací k projektu \n\n\n\n \n  . .
URL:https://kristall-centrum.cz/akce/deti13-4-2/
LOCATION:Lesní školka V Hájence\, Národních hrdinů 45\, Praha 9\, 190 12\, Czech Republic
CATEGORIES:Intuitivni vidění,Jan Světlák
ATTACH;FMTTYPE=image/jpeg:https://kristall-centrum.cz/wp-content/uploads/2014/12/detipozad.jpg
END:VEVENT
END:VCALENDAR